BEGIN:VCALENDAR
VERSION:2.0
PRODID:-//eventon.com NONSGML v1.0//EN
BEGIN:VEVENT
UID:69eb62171e9cd
DTSTAMP:20260424T072911
DTSTART:20260725T050000Z
DTEND:20260726T045900Z
LOCATION:UW Marching Band Field 702 Walnut St\,  Madison\,  WI 53705
SUMMARY:Free Summer Clinic
DESCRIPTION: 2nd of our 3 free Summer Clinics that we will be doing this summer for those who are interested in auditioning for the 2026-27 Badger Band. Click Learn More or visit our “Join the Band” tab to sign up!
END:VEVENT
END:VCALENDAR