BEGIN:VCALENDAR
VERSION:2.0
PRODID:-//eventon.com NONSGML v1.0//EN
BEGIN:VEVENT
UID:69eb612fea022
DTSTAMP:20260424T072519
DTSTART:20260808T050000Z
DTEND:20260809T045900Z
LOCATION:UW Marching Band Field 702 Walnut St\,  Madison\,  WI 53705
SUMMARY:Free Summer Clinic
DESCRIPTION: 3rd of our 3 free Summer Clinics that we will be doing this summer for those who are interested in auditioning for the 2026-27 Badger Band. Click Learn More or visit our "Join the Band" tab to sign up!
END:VEVENT
END:VCALENDAR